BEGIN:VCALENDAR
VERSION:2.0
PRODID:-//Arundel Camera Club, Inc. - ECPv6.15.18//NONSGML v1.0//EN
CALSCALE:GREGORIAN
METHOD:PUBLISH
X-ORIGINAL-URL:https://arundelcameraclub.org
X-WR-CALDESC:Events for Arundel Camera Club, Inc.
REFRESH-INTERVAL;VALUE=DURATION:PT1H
X-Robots-Tag:noindex
X-PUBLISHED-TTL:PT1H
BEGIN:VTIMEZONE
TZID:America/New_York
BEGIN:DAYLIGHT
TZOFFSETFROM:-0500
TZOFFSETTO:-0400
TZNAME:EDT
DTSTART:20250309T070000
END:DAYLIGHT
BEGIN:STANDARD
TZOFFSETFROM:-0400
TZOFFSETTO:-0500
TZNAME:EST
DTSTART:20251102T060000
END:STANDARD
BEGIN:DAYLIGHT
TZOFFSETFROM:-0500
TZOFFSETTO:-0400
TZNAME:EDT
DTSTART:20260308T070000
END:DAYLIGHT
BEGIN:STANDARD
TZOFFSETFROM:-0400
TZOFFSETTO:-0500
TZNAME:EST
DTSTART:20261101T060000
END:STANDARD
BEGIN:DAYLIGHT
TZOFFSETFROM:-0500
TZOFFSETTO:-0400
TZNAME:EDT
DTSTART:20270314T070000
END:DAYLIGHT
BEGIN:STANDARD
TZOFFSETFROM:-0400
TZOFFSETTO:-0500
TZNAME:EST
DTSTART:20271107T060000
END:STANDARD
END:VTIMEZONE
BEGIN:VEVENT
DTSTART;TZID=America/New_York:20260507T190000
DTEND;TZID=America/New_York:20260507T210000
DTSTAMP:20260419T164735
CREATED:20250614T114733Z
LAST-MODIFIED:20260228T172348Z
UID:118595-1778180400-1778187600@arundelcameraclub.org
SUMMARY:Program - Denise Silva - Night Photography
DESCRIPTION:Night photography is both rewarding and challenging. It requires specific equipment and camera settings with a dash of patience. The end result\, unique images that look into a world often unseen\, such as the activity on the streets of the city once the sun goes down and people head in for the night. With the right equipment\, you can even see into space\, catching glimpses of stars the naked-eye can’t see. This presentation will start you on your journey to night photography.  \nDenise’s passion for photography began when her grandmother shared captivating images from her travels to Egypt and Africa on safari. Evenings spent watching slideshows planted the seed\, which blossomed 35 years later into a deep love for photography—especially travel photography—leading to the creation of Road Runner Photography Tours. Since 2013\, Denise has been running photography workshops\, helping others discover the art and joy of photography. \nDenise has been recognized as one of the Top 200 Women Photographers Who Inspire by Nature Photo Guides. Her work has been featured in Extraordinary Vision (EV) Magazine and Breakthrough Photography’s Guide to Night Sky Photography. She is passionate about sharing her knowledge while introducing people to the stunning landscapes\, diverse wildlife\, and vibrant cultures around the world. \nDenise has contributed multiple articles to the Fujifilm X/GFX USA website and was interviewed by Peggy Farren of Understanding Photography on Overcoming the Challenges of Street Photography. \nDenise embraces the idea that “every day above ground is a good one\,” so get out and enjoy! Join her and her team for your next photography adventure! \nYou can see some of Denise’s photography at her online Gallery. \nRoadrunnerphotographytours@gmail.com and info@roadrunnerphotographytours.com 
URL:https://arundelcameraclub.org/event/program-tbd-26/
LOCATION:Severna Park Baptist Church\, 506 Benfield Rd\, Severna Park\, MD\, 21146\, United States
CATEGORIES:Program
ATTACH;FMTTYPE=image/jpeg:https://arundelcameraclub.org/wp-content/uploads/2025/06/20260507-Program-Denise-Silva-Night-Photography.jpg
END:VEVENT
END:VCALENDAR