BEGIN:VCALENDAR
VERSION:2.0
PRODID:-//Arundel Camera Club, Inc. - ECPv6.15.18//NONSGML v1.0//EN
CALSCALE:GREGORIAN
METHOD:PUBLISH
X-WR-CALNAME:Arundel Camera Club, Inc.
X-ORIGINAL-URL:https://arundelcameraclub.org
X-WR-CALDESC:Events for Arundel Camera Club, Inc.
REFRESH-INTERVAL;VALUE=DURATION:PT1H
X-Robots-Tag:noindex
X-PUBLISHED-TTL:PT1H
BEGIN:VTIMEZONE
TZID:America/New_York
BEGIN:DAYLIGHT
TZOFFSETFROM:-0500
TZOFFSETTO:-0400
TZNAME:EDT
DTSTART:20250309T070000
END:DAYLIGHT
BEGIN:STANDARD
TZOFFSETFROM:-0400
TZOFFSETTO:-0500
TZNAME:EST
DTSTART:20251102T060000
END:STANDARD
BEGIN:DAYLIGHT
TZOFFSETFROM:-0500
TZOFFSETTO:-0400
TZNAME:EDT
DTSTART:20260308T070000
END:DAYLIGHT
BEGIN:STANDARD
TZOFFSETFROM:-0400
TZOFFSETTO:-0500
TZNAME:EST
DTSTART:20261101T060000
END:STANDARD
BEGIN:DAYLIGHT
TZOFFSETFROM:-0500
TZOFFSETTO:-0400
TZNAME:EDT
DTSTART:20270314T070000
END:DAYLIGHT
BEGIN:STANDARD
TZOFFSETFROM:-0400
TZOFFSETTO:-0500
TZNAME:EST
DTSTART:20271107T060000
END:STANDARD
END:VTIMEZONE
BEGIN:VEVENT
DTSTART;TZID=America/New_York:20260319T190000
DTEND;TZID=America/New_York:20260319T210000
DTSTAMP:20260419T212816
CREATED:20250614T114704Z
LAST-MODIFIED:20260119T001645Z
UID:118588-1773946800-1773954000@arundelcameraclub.org
SUMMARY:Program - Bob Webber - Abstract Photography
DESCRIPTION:On Thursday night 19 March 2026 we will hosting our very own Bob Webber for a talk on abstract photography at the Severna Park Baptist Church starting at 7:00 PM. This talk is in preparation for our April contests theme. \nBob has been member of the Arundel Camera Club for over a decade having and has served as the Vice President of Contest and as a critical member of the contests committee for years. He has a distinctive eye and style for photography unique within the club. He has earned Unlimited status in Digital\, Color Prints\, and Monochrome Prints. \nBob built his first camera out of a cardboard box\, tracing paper and his grandmother’s Opera glasses. He started serious hobby photography with an Praktica SLR in 1970\, working with black and \nwhite film and developing and printing his own work. Later he also tried color slides with the Cibachrome process. \nIn 2001 Bob moved to digital photography and got serious about the art of photography in 2014 when he joined the Arundel Camera Club.  \nHis interest in creative symmetrical designs provoked the question: What is that and how was it made? This has led some folk to think he knows something about Abstract Photography.  \nTo wit Abstract Photos captures something outside the normal view of the subject such as the patterns\, shapes or colors in such a way that these attributes greatly dominate the original traditional view. Abstracts are not photos of things but of some attribute of the subject. In some cases\, there is no traditional view left\, only features such as shapes colors and patterns etc. Now is the time to find out if my ideas are correct.
URL:https://arundelcameraclub.org/event/20260319-program-bob-webber-abstract/
LOCATION:Severna Park Baptist Church\, 506 Benfield Rd\, Severna Park\, MD\, 21146\, United States
CATEGORIES:Program
ATTACH;FMTTYPE=image/jpeg:https://arundelcameraclub.org/wp-content/uploads/2025/06/20260319-Program-Bob-Webber-Abstract.jpg
END:VEVENT
END:VCALENDAR